BEGIN:VCALENDAR
VERSION:2.0
PRODID:-//fsjest.ma - ECPv6.15.20//NONSGML v1.0//EN
CALSCALE:GREGORIAN
METHOD:PUBLISH
X-ORIGINAL-URL:https://web.fsjest.ma
X-WR-CALDESC:Évènements pour fsjest.ma
REFRESH-INTERVAL;VALUE=DURATION:PT1H
X-Robots-Tag:noindex
X-PUBLISHED-TTL:PT1H
BEGIN:VTIMEZONE
TZID:UTC
BEGIN:STANDARD
TZOFFSETFROM:+0000
TZOFFSETTO:+0000
TZNAME:UTC
DTSTART:20210101T000000
END:STANDARD
END:VTIMEZONE
BEGIN:VEVENT
DTSTART;TZID=UTC:20220718T080000
DTEND;TZID=UTC:20220721T170000
DTSTAMP:20260422T044111
CREATED:20220530T134110Z
LAST-MODIFIED:20220530T134151Z
UID:9540-1658131200-1658422800@web.fsjest.ma
SUMMARY:Appel d’offre : Cours d’été 2021-2022
DESCRIPTION:L’Université Internationale d’Andalousie \nEn collaboration avec CIFAL Malaga et la Faculté des Sciences Juridiques\, Economiques et Sociales de Tanger \nOrganisent \nUn Cours d’été 2021-2022 sous le thème : \n « Économie circulaire et tourisme : un enjeu partagé pour les destinations méditerranéennes. » \nL’activité aura lieu entre le 18 et 21 Juillet 2022 \nNombre de places est limités à 25  \nLien d’inscription 
URL:https://web.fsjest.ma/event/appel-doffre-cours-dete-2021-2022/
CATEGORIES:événement
END:VEVENT
END:VCALENDAR