BEGIN:VCALENDAR
VERSION:2.0
PRODID:-//fsjest.ma - ECPv6.15.20//NONSGML v1.0//EN
CALSCALE:GREGORIAN
METHOD:PUBLISH
X-ORIGINAL-URL:https://web.fsjest.ma
X-WR-CALDESC:Évènements pour fsjest.ma
REFRESH-INTERVAL;VALUE=DURATION:PT1H
X-Robots-Tag:noindex
X-PUBLISHED-TTL:PT1H
BEGIN:VTIMEZONE
TZID:UTC
BEGIN:STANDARD
TZOFFSETFROM:+0000
TZOFFSETTO:+0000
TZNAME:UTC
DTSTART:20210101T000000
END:STANDARD
END:VTIMEZONE
BEGIN:VEVENT
DTSTART;TZID=UTC:20220207T000000
DTEND;TZID=UTC:20220515T000000
DTSTAMP:20260422T080222
CREATED:20220110T132156Z
LAST-MODIFIED:20220110T132451Z
UID:7990-1644192000-1652572800@web.fsjest.ma
SUMMARY:DÉBUT DES COURS
DESCRIPTION:
URL:https://web.fsjest.ma/event/debut-des-cours/
CATEGORIES:événement
END:VEVENT
BEGIN:VEVENT
DTSTART;TZID=UTC:20220513T080000
DTEND;TZID=UTC:20220607T170000
DTSTAMP:20260422T080222
CREATED:20220110T133247Z
LAST-MODIFIED:20220131T134012Z
UID:7993-1652428800-1654621200@web.fsjest.ma
SUMMARY:Les examens de la session de printemps
DESCRIPTION:أجندة الدورة الربيعية \n\n    07 فبراير 2022 :    بداية دروس السداسيات ( 6\, 4\, 2)   \n    30 ابريل 2022 :     توقف الدراســـة\nمن 13 ماي 2022 إلى 11 يونيو 2022   : فترة المراقبة النهائية
URL:https://web.fsjest.ma/event/les-dates-des-examens/
CATEGORIES:événement
END:VEVENT
END:VCALENDAR